BEGIN:VCALENDAR
VERSION:2.0
PRODID:-//Graswurzle - ECPv6.11.2//NONSGML v1.0//EN
CALSCALE:GREGORIAN
METHOD:PUBLISH
X-ORIGINAL-URL:https://graswurzle.ch/fr
X-WR-CALDESC:Évènements pour Graswurzle
REFRESH-INTERVAL;VALUE=DURATION:PT1H
X-Robots-Tag:noindex
X-PUBLISHED-TTL:PT1H
BEGIN:VTIMEZONE
TZID:Europe/Paris
BEGIN:DAYLIGHT
TZOFFSETFROM:+0100
TZOFFSETTO:+0200
TZNAME:CEST
DTSTART:20230326T010000
END:DAYLIGHT
BEGIN:STANDARD
TZOFFSETFROM:+0200
TZOFFSETTO:+0100
TZNAME:CET
DTSTART:20231029T010000
END:STANDARD
END:VTIMEZONE
BEGIN:VEVENT
DTSTART;VALUE=DATE:20230708
DTEND;VALUE=DATE:20230710
DTSTAMP:20260423T192147
CREATED:20230424T110503Z
LAST-MODIFIED:20230525T130106Z
UID:19470-1688774400-1688947199@graswurzle.ch
SUMMARY:Graswurzle Sommerfest
DESCRIPTION:Lasst uns feiern! Am Wochenende vom 8. und 9. Juli findet das grosse Graswurzle-Sommerfest in Stetten AG statt. \nFreut euch auf zwei Tage Spass\, Musik\, Tanz\, feines Essen und schöne Begegnungen! \nWir haben ein reichhaltiges\, abwechslungsreiches Programm für Gross und Klein vorbereitet: Auf den insgesamt drei Bühnen im Innen- und Aussenbereich finden Konzerte\, kabarettistische Darbietungen\, Theater und Zauberei statt. Auf der grossen Tanzfläche könnt ihr von früh bis spät die Hüften schwingen. 50 Marktstände locken mit attraktiven Angeboten. Wer es ruhiger mag\, findet lauschige Ecken zum Entspannen und sich in Ruhe mit anderen auszutauschen. \n \nWeitere Infos und Anmeldung \n 
URL:https://graswurzle.ch/fr/kalender-detail/graswurzle-sommerfest/
LOCATION:Bottis Kräutergärtnerei\, Grabenmattenstrasse 18\, 5608 Stetten\, AG\, Schweiz
END:VEVENT
END:VCALENDAR