BEGIN:VCALENDAR
VERSION:2.0
PRODID:-//Graswurzle - ECPv6.11.2//NONSGML v1.0//EN
CALSCALE:GREGORIAN
METHOD:PUBLISH
X-ORIGINAL-URL:https://graswurzle.ch/fr
X-WR-CALDESC:Évènements pour Graswurzle
REFRESH-INTERVAL;VALUE=DURATION:PT1H
X-Robots-Tag:noindex
X-PUBLISHED-TTL:PT1H
BEGIN:VTIMEZONE
TZID:Europe/Zurich
BEGIN:DAYLIGHT
TZOFFSETFROM:+0100
TZOFFSETTO:+0200
TZNAME:CEST
DTSTART:20240331T010000
END:DAYLIGHT
BEGIN:STANDARD
TZOFFSETFROM:+0200
TZOFFSETTO:+0100
TZNAME:CET
DTSTART:20241027T010000
END:STANDARD
END:VTIMEZONE
BEGIN:VEVENT
DTSTART;TZID=Europe/Zurich:20240119T190000
DTEND;TZID=Europe/Zurich:20240119T230000
DTSTAMP:20260421T115008
CREATED:20231212T144535Z
LAST-MODIFIED:20231212T144535Z
UID:22055-1705690800-1705705200@graswurzle.ch
SUMMARY:Lokalgruppe Freiamt - Pinball Obig
DESCRIPTION:  \nVernetzungstreffen mit Flipperspass\nauf über 20 Flipperkästen!\nFreitag 19.1.2024 ab 19 Uhr \n\nAlle Spielgeräte sind auf Freispiel eingestellt\nAusgleich Raum/Geräte: Fr. 15.-\nGetränke separat\nSnacks zum teilen sind willkommen\nThe Pinball-Hall\, Sidlers Neuhof in Sins AG\n\nAnmeldung an Tim 079 913 24 13 \n 
URL:https://graswurzle.ch/fr/kalender-detail/lokalgruppe-freiamt-pinball-obig/
LOCATION:The Pinball-Hall\, Neuhof 1\, Sins\, Aargau\, 5643\, Schweiz
END:VEVENT
END:VCALENDAR