BEGIN:VCALENDAR
VERSION:2.0
PRODID:-//Graswurzle - ECPv6.11.2//NONSGML v1.0//EN
CALSCALE:GREGORIAN
METHOD:PUBLISH
X-WR-CALNAME:Graswurzle
X-ORIGINAL-URL:https://graswurzle.ch/fr
X-WR-CALDESC:Évènements pour Graswurzle
REFRESH-INTERVAL;VALUE=DURATION:PT1H
X-Robots-Tag:noindex
X-PUBLISHED-TTL:PT1H
BEGIN:VTIMEZONE
TZID:Europe/Zurich
BEGIN:DAYLIGHT
TZOFFSETFROM:+0100
TZOFFSETTO:+0200
TZNAME:CEST
DTSTART:20240331T010000
END:DAYLIGHT
BEGIN:STANDARD
TZOFFSETFROM:+0200
TZOFFSETTO:+0100
TZNAME:CET
DTSTART:20241027T010000
END:STANDARD
END:VTIMEZONE
BEGIN:VEVENT
DTSTART;TZID=Europe/Zurich:20240120T120000
DTEND;TZID=Europe/Zurich:20240120T180000
DTSTAMP:20260421T114749
CREATED:20231213T132920Z
LAST-MODIFIED:20231213T132920Z
UID:22061-1705752000-1705773600@graswurzle.ch
SUMMARY:Vernetzungstreffen Schwyz
DESCRIPTION:Wir freuen uns Euch zum Netzwerktreffen von Graswurzle Schwyz am 20.01.2024 in den Adlerhorst Oberiberg einladen zu dürfen. \nWir\, das sind Natalie und Thomas\, gesellige Berg-Liebhaber und Wirtepaar der Bergbeiz Adlerhorst in Oberiberg. Seit gut einem Jahr leben und arbeiten wir im Herzen der Schweiz\, zuvor waren wir 1 1/2 Jahre im Rheintal zu Hause. Wir sind gern in Gesellschaft mit Gleichgesinnten und schätzen die gelebten Werte des Vereins sehr. \nWir würden uns freuen euch auf 1.499 Metern im Adlerhorst Oberiberg begrüssen zu dürfen. Für weitere Infos verweisen wir auf unsere Homepage www.adlerhorst-oberiberg.ch und auf unser Instagram-Profil: @bergbeiz_adlerhorst_oberiberg \n\n\n\n\n\n\n\nDamit wir im Vorfeld planen können\, würden wir uns über eine Anmeldung per Mail unter info@adlerhorst-oberiberg.ch freuen. Das Kennenlernen findet ab 12 Uhr auf 1.499 Metern statt. Die Teilnehmer können sich um 10:30 Uhr unten auf dem Parkplatz der Talstation des Sessellifts „Laucherenstöckli“ treffen und mit dem Lift rauffahren. Von der Bergstation zum Adlerhorst sind es ca. 60 Gehminuten. Der Weg ist mit der Raupe planiert und festes Schuhwerk ist von Vorteil. Die Abenteuerlustigen können im Nachgang an das Treffen bei Bedarf den Heimweg per Schlitten ins Tal antreten. Es stehen ausreichend Schlitten am Adlerhorst zur Verfügung. Wir freuen uns auf euch! 🙂 \n \n\nEs gibt zwei unterschiedliche Wege zum Adlerhorst: \nOption 1) \nVon der Kirche Oberiberg aus kann man in ca. 60 Minuten und 500 Höhenmetern über die Schittelpiste zum Adlerhorst wandern. \nOption 2) \nMan nimmt den Sessellift „Laucheren“ und läuft dann von dort über das Fuederergg in ca. 60 Minuten zu uns. Hier gibt es keine Höhenmeter zu überwinden und der Weg ist mit festem Schuhwerk gut zu gehen. \nNach dem Treffen können die Abenteuerlustigen mit dem Schlitten zurück ins Tal fahren\, dazu haben wir genügend Schlitten vor Ort.
URL:https://graswurzle.ch/fr/kalender-detail/vernetzungstreffen-schwyz/
LOCATION:Adlerhorst\, Bergbeiz Adlerhorst\, Oberiberg\, Schwyz\, 8843\, Schweiz
END:VEVENT
BEGIN:VEVENT
DTSTART;TZID=Europe/Zurich:20240120T140000
DTEND;TZID=Europe/Zurich:20240120T180000
DTSTAMP:20260421T114749
CREATED:20231120T162512Z
LAST-MODIFIED:20231120T162512Z
UID:21844-1705759200-1705773600@graswurzle.ch
SUMMARY:Vernetzungstreffen der Region Zürich und Umgebung
DESCRIPTION:Herzliche Einladung an unser Vernetzungstreffen \n  \nAnschliessend gemütliches Nachtessen für die\, die wollen. \nhttps://www.faenschterplatz.ch / ÖV (Bus 765) Bushaltestelle GRINDEL ist gleich nebenan. Den Bus 765 kann man nehmen von den Bahnhöfen Zürich-Flughafen\, von Dietlikon oder von Bassersdorf aus. Besucherparkplätze stehen auch zur Verfügung. \nZiel: Vernetzung und Stärkung regionaler Lokal- und Interessengruppen \nEingeladen sind Mitglieder aus Zürich und Umgebung:\nDietikon\, Säuliamt\, Zürich\, Zürich10\, Sunnesite\, Zimmerberg\, Zürich-Unterland\, Winterthur und weitere Interessierte.\nGerne dürft ihr diese Einladung teilen mit weiteren Graswurzler/Innen die Freude haben am Vernetzen. (Die ersten 30 Anmeldungen werden berücksichtigt) \nThemen: Was machen eigentlich die Graswurzler/Innen in den anderen Lokalgruppen? Was hält sie zusammen und was können wir voneinander lernen? Sicher gibt es ganz in der Nähe inspirierende Menschen mit den gleichen Interessen. An diesem Treffen möchten wir ein «Kennenlernen» und «Vernetzen»\, das «Entdecken und Nutzen von Synergien» ermöglicht. Wir sind gemeinsam unterwegs und vernetzen uns über lokale Gruppen und Projekte hinweg\, um neue Strukturen für unser Zusammenleben zu erschaffen. \nProgramm: \n14.00 Uhr kurze Einführung durch Ursula dalla Valle\, Wurzelpflege. \n14.15 Uhr Vorstellungsrunde und Berichte aus den verschiedenen Lokal- und Themengruppen\n15.30 Uhr Zvieri mit „Teilete“ der mitgebrachten Köstlichkeiten. Anschliessend freier Austausch untereinander. \n17.30 Uhr Schlussrunde\, Ideen und Wünsche für zukünftige Treffen.\n18.00 Uhr gemeinsames Abendessen im Restaurant Grindel für diejenigen\, die sich angemeldet haben. \nAnmeldung bitte bis 6.1.2024 an Ursula dalla Valle Mail: ursula.dv@bluewin.ch Teilt bitte auch mit ob ihr zum Nachtessen bleibt. \nMiete: je nach Anzahl Personen zwischen 70.00 und 100.00CH \nPDF zum Download: \nVernetzungstreffen Bassersdorf 2024
URL:https://graswurzle.ch/fr/kalender-detail/vernetzungstreffen-der-region-zuerich-und-umgebung/
LOCATION:Lernort Fänschterplatz\, Grindelstrasse 9\, Bassersdorf\, Zürich\, 8303\, Schweiz
END:VEVENT
BEGIN:VEVENT
DTSTART;TZID=Europe/Zurich:20240120T140000
DTEND;TZID=Europe/Zurich:20240120T180000
DTSTAMP:20260421T114749
CREATED:20231212T142304Z
LAST-MODIFIED:20231213T150316Z
UID:22052-1705759200-1705773600@graswurzle.ch
SUMMARY:Vernetzungstreffen Lokalgruppe Uri
DESCRIPTION:Treffen der Lokalgruppe Uri\n \n  \nWir laden ein zum Neustart in Altdorf\nAb 14 Uhr treffen wir uns in der Geschäftsstelle des Graswurzle Vereines am Rathausplatz 4 in Altdorf. Wir freuen uns auf neue und alte Freunde und Pflege der Beziehungen von Mensch zu Mensch. \nFür das leibliche Wohl darf jeder gerne etwas zu teilen mitbringen. \nWir freuen uns auf euch \nPrisca & Roman \nDu kannst dich gerne zu unserem Telegram Chat hinzufügen: https://t.me/+7nzsj3j-O9k5ZTc0
URL:https://graswurzle.ch/fr/kalender-detail/vernetzungstreffen-lokalgruppe-uri/
LOCATION:Graswurzle-Geschäftsstelle\, Rathausplatz 4\, 6460 Altdorf\, Uri\, Schweiz
CATEGORIES:Graswurzle-Veranstaltung
END:VEVENT
END:VCALENDAR