BEGIN:VCALENDAR
VERSION:2.0
PRODID:-//Graswurzle - ECPv6.11.2//NONSGML v1.0//EN
CALSCALE:GREGORIAN
METHOD:PUBLISH
X-WR-CALNAME:Graswurzle
X-ORIGINAL-URL:https://graswurzle.ch/fr
X-WR-CALDESC:Évènements pour Graswurzle
REFRESH-INTERVAL;VALUE=DURATION:PT1H
X-Robots-Tag:noindex
X-PUBLISHED-TTL:PT1H
BEGIN:VTIMEZONE
TZID:Europe/Zurich
BEGIN:DAYLIGHT
TZOFFSETFROM:+0100
TZOFFSETTO:+0200
TZNAME:CEST
DTSTART:20240331T010000
END:DAYLIGHT
BEGIN:STANDARD
TZOFFSETFROM:+0200
TZOFFSETTO:+0100
TZNAME:CET
DTSTART:20241027T010000
END:STANDARD
END:VTIMEZONE
BEGIN:VEVENT
DTSTART;TZID=Europe/Zurich:20240524T180000
DTEND;TZID=Europe/Zurich:20240524T210000
DTSTAMP:20260421T042455
CREATED:20240411T135904Z
LAST-MODIFIED:20240411T140652Z
UID:23013-1716573600-1716584400@graswurzle.ch
SUMMARY:Workshop der Lokalgruppe Zug
DESCRIPTION:
URL:https://graswurzle.ch/fr/kalender-detail/workshop-der-lokalgruppe-zug/
LOCATION:Baar\, Neuhofstrasse 3c\, Baar\, 6319\, Schweiz
END:VEVENT
END:VCALENDAR