BEGIN:VCALENDAR
VERSION:2.0
PRODID:-//Graswurzle - ECPv6.11.2//NONSGML v1.0//EN
CALSCALE:GREGORIAN
METHOD:PUBLISH
X-ORIGINAL-URL:https://graswurzle.ch/fr
X-WR-CALDESC:Évènements pour Graswurzle
REFRESH-INTERVAL;VALUE=DURATION:PT1H
X-Robots-Tag:noindex
X-PUBLISHED-TTL:PT1H
BEGIN:VTIMEZONE
TZID:Europe/Zurich
BEGIN:DAYLIGHT
TZOFFSETFROM:+0100
TZOFFSETTO:+0200
TZNAME:CEST
DTSTART:20240331T010000
END:DAYLIGHT
BEGIN:STANDARD
TZOFFSETFROM:+0200
TZOFFSETTO:+0100
TZNAME:CET
DTSTART:20241027T010000
END:STANDARD
END:VTIMEZONE
BEGIN:VEVENT
DTSTART;TZID=Europe/Zurich:20240921T100000
DTEND;TZID=Europe/Zurich:20240921T180000
DTSTAMP:20260420T214211
CREATED:20240719T140826Z
LAST-MODIFIED:20240904T142350Z
UID:23974-1726912800-1726941600@graswurzle.ch
SUMMARY:FREI-SEIN-Messe
DESCRIPTION:2. Frei-sein Messe Graswurzle & DIE FREIEN  \nGraswurzle und DIE FREIEN veranstalteten bereits zum zweiten Mal die „FREI-SEIN-Messe“. Dabei stellen wir konkrete\, konstruktive und freiheitliche Projekte vor. \nDie Idee der FREI-SEIN-MESSE: \nSeit 2023 veranstalten wir den NEUE WEGE KONGRESS\, dabei möchten wir das Bewusstsein für Möglichkeiten\, eines neuen Miteinanders schaffen. An der FREI-SEIN-MESSE stellen wir konkrete Projekte dazu vor. \nInitialvortrag: „Was braucht die Utopie von mir? – Oder warum  Selbstverantwortung richtig rockt.“ – Sylvie-Sophie Schindler  \nVortragsthemen:  \n\nLandwirtschaft / Nahrung \nWorld Ethic Forum \nKontrafunk – Neue Medien \nArtabana – Neue Gesundheitskassen \nTalent – Alternative Währungen\nRADIGS – Neue online Plattform \nFLOW-Kulur – Neue Organisationsstruktur \nKurs-Natur – Angebote für Gleichgesinnte \nSWM – mehr als nur ein Edelmetallhandel \n\nMusikalische Begleitung durch den Tag. Messebetrieb um sich tiefer mit einzelnen Themen zu beschäftigen. \nTickets werden nicht zurück erstattet. Eventforg bietet die Möglichkeit Tickets zu versichern. \nHier gehts zur Anmeldung
URL:https://graswurzle.ch/fr/kalender-detail/frei-sein-messe/
LOCATION:Uristiersaal\, Dätwylerstrasse 27\, Altdorf\, 6460\, Schweiz
END:VEVENT
END:VCALENDAR