BEGIN:VCALENDAR
VERSION:2.0
PRODID:-//Graswurzle - ECPv6.11.2//NONSGML v1.0//EN
CALSCALE:GREGORIAN
METHOD:PUBLISH
X-ORIGINAL-URL:https://graswurzle.ch/fr
X-WR-CALDESC:Évènements pour Graswurzle
REFRESH-INTERVAL;VALUE=DURATION:PT1H
X-Robots-Tag:noindex
X-PUBLISHED-TTL:PT1H
BEGIN:VTIMEZONE
TZID:Europe/Zurich
BEGIN:DAYLIGHT
TZOFFSETFROM:+0100
TZOFFSETTO:+0200
TZNAME:CEST
DTSTART:20250330T010000
END:DAYLIGHT
BEGIN:STANDARD
TZOFFSETFROM:+0200
TZOFFSETTO:+0100
TZNAME:CET
DTSTART:20251026T010000
END:STANDARD
END:VTIMEZONE
BEGIN:VEVENT
DTSTART;TZID=Europe/Zurich:20250222T100000
DTEND;TZID=Europe/Zurich:20250222T180000
DTSTAMP:20260423T222606
CREATED:20240905T065752Z
LAST-MODIFIED:20241122T134135Z
UID:24116-1740218400-1740247200@graswurzle.ch
SUMMARY:3. Graswurzle Neue Wege Kongress
DESCRIPTION:Infos und Anmeldung \n 
URL:https://graswurzle.ch/fr/kalender-detail/3-graswurzle-neue-wege-kongress/
LOCATION:MythenForum\, Reichsstrasse 12\, 6430 Schwyz\, Schweiz
END:VEVENT
END:VCALENDAR