BEGIN:VCALENDAR
VERSION:2.0
PRODID:-//Graswurzle - ECPv6.11.2//NONSGML v1.0//EN
CALSCALE:GREGORIAN
METHOD:PUBLISH
X-ORIGINAL-URL:https://graswurzle.ch/it
X-WR-CALDESC:Eventi per Graswurzle
REFRESH-INTERVAL;VALUE=DURATION:PT1H
X-Robots-Tag:noindex
X-PUBLISHED-TTL:PT1H
BEGIN:VTIMEZONE
TZID:Europe/Paris
BEGIN:DAYLIGHT
TZOFFSETFROM:+0100
TZOFFSETTO:+0200
TZNAME:CEST
DTSTART:20230326T010000
END:DAYLIGHT
BEGIN:STANDARD
TZOFFSETFROM:+0200
TZOFFSETTO:+0100
TZNAME:CET
DTSTART:20231029T010000
END:STANDARD
END:VTIMEZONE
BEGIN:VEVENT
DTSTART;TZID=Europe/Paris:20230809T180000
DTEND;TZID=Europe/Paris:20230809T220000
DTSTAMP:20260423T173804
CREATED:20230721T134514Z
LAST-MODIFIED:20230721T134514Z
UID:20486-1691604000-1691618400@graswurzle.ch
SUMMARY:Frieden\, eine Utopie?
DESCRIPTION:
URL:https://graswurzle.ch/it/kalender-detail/frieden-eine-utopie/
LOCATION:Cultibo\, Aarauerstrasse 72\, Olten\, Solothurn\, 4600\, Schweiz
END:VEVENT
END:VCALENDAR