BEGIN:VCALENDAR
VERSION:2.0
PRODID:-//Graswurzle - ECPv6.11.2//NONSGML v1.0//EN
CALSCALE:GREGORIAN
METHOD:PUBLISH
X-WR-CALNAME:Graswurzle
X-ORIGINAL-URL:https://graswurzle.ch/it
X-WR-CALDESC:Eventi per Graswurzle
REFRESH-INTERVAL;VALUE=DURATION:PT1H
X-Robots-Tag:noindex
X-PUBLISHED-TTL:PT1H
BEGIN:VTIMEZONE
TZID:Europe/Zurich
BEGIN:DAYLIGHT
TZOFFSETFROM:+0100
TZOFFSETTO:+0200
TZNAME:CEST
DTSTART:20240331T010000
END:DAYLIGHT
BEGIN:STANDARD
TZOFFSETFROM:+0200
TZOFFSETTO:+0100
TZNAME:CET
DTSTART:20241027T010000
END:STANDARD
END:VTIMEZONE
BEGIN:VEVENT
DTSTART;TZID=Europe/Zurich:20240407T140000
DTEND;TZID=Europe/Zurich:20240407T170000
DTSTAMP:20260421T060653
CREATED:20240404T125024Z
LAST-MODIFIED:20240404T125130Z
UID:22880-1712498400-1712509200@graswurzle.ch
SUMMARY:Vernetzungstreffen Lokalgruppe Unterwalden
DESCRIPTION:Gerne möchten wir als Lokalgruppe in Unterwalden das Potential der Gemeinschaft aktiv kultivieren.   \n  \n✨Deshalb laden wir ein\, zum Info&Vernetzungstreff  \n  \n➡️ Im 1. Teil erfährst du das Wichtigste über die Werte\, Struktur & Möglichkeiten.  \n  \nDazwischen gibts eine Pause mit offenem Austausch und mitgebrachten Snacks.  \n  \n➡️ Im 2. Teil finden wir gemeinsam heraus\, welche Themen intressierien. Dies bietet die Gelegenheit gleich aktiv zu werden. So kann man in der Lokalgruppe selbst oder in diversen Projektgruppen eigene Ideen einbringen und verwirklichen.  \n  \nWir freuen uns auf euch  \nGraswurzle Unterwalden 🌱 \nAnmeldung: unterwalden@graswurzle.ch 
URL:https://graswurzle.ch/it/kalender-detail/vernetzungstreffen-lokalgruppe-unterwalden-2/
LOCATION:Raum IdeenReich\, Engelbergstrasse 40a\, Stans\, 6370\, Schweiz
END:VEVENT
END:VCALENDAR