BEGIN:VCALENDAR
VERSION:2.0
PRODID:-//Graswurzle - ECPv6.11.2//NONSGML v1.0//EN
CALSCALE:GREGORIAN
METHOD:PUBLISH
X-WR-CALNAME:Graswurzle
X-ORIGINAL-URL:https://graswurzle.ch/it
X-WR-CALDESC:Eventi per Graswurzle
REFRESH-INTERVAL;VALUE=DURATION:PT1H
X-Robots-Tag:noindex
X-PUBLISHED-TTL:PT1H
BEGIN:VTIMEZONE
TZID:Europe/Zurich
BEGIN:DAYLIGHT
TZOFFSETFROM:+0100
TZOFFSETTO:+0200
TZNAME:CEST
DTSTART:20240331T010000
END:DAYLIGHT
BEGIN:STANDARD
TZOFFSETFROM:+0200
TZOFFSETTO:+0100
TZNAME:CET
DTSTART:20241027T010000
END:STANDARD
END:VTIMEZONE
BEGIN:VEVENT
DTSTART;TZID=Europe/Zurich:20240419T180000
DTEND;TZID=Europe/Zurich:20240419T230000
DTSTAMP:20260421T060705
CREATED:20240304T100431Z
LAST-MODIFIED:20240304T100431Z
UID:22659-1713549600-1713567600@graswurzle.ch
SUMMARY:Frühlingsfest Lokalgruppe Zug & Freiamt
DESCRIPTION:Anmeldung: \nzug@graswurzle.ch / 079 259 50 82
URL:https://graswurzle.ch/it/kalender-detail/fruehlingsfest-lokalgruppe-zug-freiamt/
LOCATION:Gartenstuebli\, Bannstrasse 30\, Steinhausen\, 6313\, Schweiz
END:VEVENT
END:VCALENDAR