BEGIN:VCALENDAR
VERSION:2.0
PRODID:-//Graswurzle - ECPv6.11.2//NONSGML v1.0//EN
CALSCALE:GREGORIAN
METHOD:PUBLISH
X-ORIGINAL-URL:https://graswurzle.ch/it
X-WR-CALDESC:Eventi per Graswurzle
REFRESH-INTERVAL;VALUE=DURATION:PT1H
X-Robots-Tag:noindex
X-PUBLISHED-TTL:PT1H
BEGIN:VTIMEZONE
TZID:Europe/Zurich
BEGIN:DAYLIGHT
TZOFFSETFROM:+0100
TZOFFSETTO:+0200
TZNAME:CEST
DTSTART:20240331T010000
END:DAYLIGHT
BEGIN:STANDARD
TZOFFSETFROM:+0200
TZOFFSETTO:+0100
TZNAME:CET
DTSTART:20241027T010000
END:STANDARD
END:VTIMEZONE
BEGIN:VEVENT
DTSTART;TZID=Europe/Zurich:20240613T193000
DTEND;TZID=Europe/Zurich:20240613T210000
DTSTAMP:20260421T023419
CREATED:20240603T060808Z
LAST-MODIFIED:20240603T060808Z
UID:23306-1718307000-1718312400@graswurzle.ch
SUMMARY:WEBINAR: Tiny House & KleinHAUS\, autark & zukunftsfähig Wohnen
DESCRIPTION:Wie wollen wir in Zukunft wohnen? Welche Wohnform bringt uns in unsere Kraft\, ist noch leistbar und zerstört dabei keine wertvollen Ressourcen? Du willst raus aus der Miete und suchst nach neuen Lösungen? In diesem Webinar erzählen dir Theresa und Hanspeter von den Chancen und neuen Möglichkeiten rund um reduzierte\, flexible Wohnformen. Sie berichten von ihren Erfahrungen und stellen dir ganz konkrete Projekte und Ideen vor. Natürlich ist auch genug Raum für deine Fragen und Ideen! \nDonnerstag 13. Juni 19.30 Uhr  \nMelde dich per Mail an und du erhältst den ZOOM Link! \nDauer ca. 1\,5 Stunden
URL:https://graswurzle.ch/it/kalender-detail/webinar-tiny-house-kleinhaus-autark-zukunftsfaehig-wohnen/
END:VEVENT
END:VCALENDAR