BEGIN:VCALENDAR
VERSION:2.0
PRODID:-//Graswurzle - ECPv6.11.2//NONSGML v1.0//EN
CALSCALE:GREGORIAN
METHOD:PUBLISH
X-ORIGINAL-URL:https://graswurzle.ch/it
X-WR-CALDESC:Eventi per Graswurzle
REFRESH-INTERVAL;VALUE=DURATION:PT1H
X-Robots-Tag:noindex
X-PUBLISHED-TTL:PT1H
BEGIN:VTIMEZONE
TZID:Europe/Zurich
BEGIN:DAYLIGHT
TZOFFSETFROM:+0100
TZOFFSETTO:+0200
TZNAME:CEST
DTSTART:20240331T010000
END:DAYLIGHT
BEGIN:STANDARD
TZOFFSETFROM:+0200
TZOFFSETTO:+0100
TZNAME:CET
DTSTART:20241027T010000
END:STANDARD
END:VTIMEZONE
BEGIN:VEVENT
DTSTART;TZID=Europe/Zurich:20241206T160000
DTEND;TZID=Europe/Zurich:20241206T230000
DTSTAMP:20260420T214024
CREATED:20241119T081417Z
LAST-MODIFIED:20241119T081417Z
UID:24268-1733500800-1733526000@graswurzle.ch
SUMMARY:Weihnachtsessen Lokalgruppe Zug
DESCRIPTION:
URL:https://graswurzle.ch/it/kalender-detail/weihnachtsessen-lokalgruppe-zug/
LOCATION:Waldhütte Bann\, Bannstrasse\, Steinhausen\, Zug\, 6312\, Switzerland
END:VEVENT
END:VCALENDAR