BEGIN:VCALENDAR
VERSION:2.0
PRODID:-//Graswurzle - ECPv6.11.2//NONSGML v1.0//EN
CALSCALE:GREGORIAN
METHOD:PUBLISH
X-ORIGINAL-URL:https://graswurzle.ch/it
X-WR-CALDESC:Eventi per Graswurzle
REFRESH-INTERVAL;VALUE=DURATION:PT1H
X-Robots-Tag:noindex
X-PUBLISHED-TTL:PT1H
BEGIN:VTIMEZONE
TZID:Europe/Zurich
BEGIN:DAYLIGHT
TZOFFSETFROM:+0100
TZOFFSETTO:+0200
TZNAME:CEST
DTSTART:20250330T010000
END:DAYLIGHT
BEGIN:STANDARD
TZOFFSETFROM:+0200
TZOFFSETTO:+0100
TZNAME:CET
DTSTART:20251026T010000
END:STANDARD
END:VTIMEZONE
BEGIN:VEVENT
DTSTART;TZID=Europe/Zurich:20250524T170000
DTEND;TZID=Europe/Zurich:20250524T233000
DTSTAMP:20260425T144644
CREATED:20250408T055457Z
LAST-MODIFIED:20250408T055457Z
UID:25058-1748106000-1748129400@graswurzle.ch
SUMMARY:Lokalgruppe Zug - Musik und Geschichten rund um den Frieden mit Mirco & Dominique (Domomir)
DESCRIPTION:Anmeldung an: zug@graswurzle.ch oder 079 259 50 82 (Bruno)
URL:https://graswurzle.ch/it/kalender-detail/lokalgruppe-zug-musik-und-geschichten-rund-um-den-frieden-mit-mirco-dominique-domomir/
LOCATION:Waldhütte Aettenschwil / Sins\, Sins\, Switzerland
END:VEVENT
END:VCALENDAR