BEGIN:VCALENDAR
VERSION:2.0
PRODID:-//Graswurzle - ECPv6.11.2//NONSGML v1.0//EN
CALSCALE:GREGORIAN
METHOD:PUBLISH
X-ORIGINAL-URL:https://graswurzle.ch
X-WR-CALDESC:Veranstaltungen für Graswurzle
REFRESH-INTERVAL;VALUE=DURATION:PT1H
X-Robots-Tag:noindex
X-PUBLISHED-TTL:PT1H
BEGIN:VTIMEZONE
TZID:Europe/Paris
BEGIN:DAYLIGHT
TZOFFSETFROM:+0100
TZOFFSETTO:+0200
TZNAME:CEST
DTSTART:20230326T010000
END:DAYLIGHT
BEGIN:STANDARD
TZOFFSETFROM:+0200
TZOFFSETTO:+0100
TZNAME:CET
DTSTART:20231029T010000
END:STANDARD
END:VTIMEZONE
BEGIN:VEVENT
DTSTART;TZID=Europe/Paris:20230826T120000
DTEND;TZID=Europe/Paris:20230826T180000
DTSTAMP:20260423T155711
CREATED:20230721T134911Z
LAST-MODIFIED:20230809T113158Z
UID:20490-1693051200-1693072800@graswurzle.ch
SUMMARY:Messe Huttwil
DESCRIPTION:Die Besucherinnen und Besucher können sich auf eine sehr breite Themenpalette freuen: Eisbaden\, Medien\, Krisenprävention\, alternative Finanzierungsmöglichkeiten und Vermögenssicherung\, Bildung\, Gesundheit\, Informatik\, mobile Energie\, Genuss\, Kommunikationstraining\, Handlesen\, diverses Handwerk\, Coaching\, Bogenschiessen\, Höhlenraclette\, Spiritualität\, Schmuckherstellung\, Handarbeiten\, Höhlentouren\, Wasseroptimierung\, «Politik»  – da ist sicher für alle Besuchenden etwas dabei. \nKurz die wichtigsten Fakten: \n Das steht zur Verfügung \n\nFür normale Stände steht ein Festtisch\, bei Bedarf auch Stühle zur Verfügung -> mit allen «Sonderfällen» haben wir oder werden wir die individuelle Lösung ausarbeiten\nStrom -> bitte eigene Kabelrolle mitnehmen\n\nStandgestaltung \n Es gibt keine «Standardstände»\, ihr seid bei der Gestaltung absolut frei\, gerne dürfen Rollups oder Werbefahnen aufgestellt werden \nAblauf \n\nAm Freitagabend werden alle Tische aufgestellt\,  die Ausstellenden logisch auf die Tische verteilt und die Tische entsprechend beschriftet.\nSamstag ab 09:00 können die Stände aufgebaut werden\n12:00 Offizieller Start der Messe\n15:00 Predigt vor der Schafhalle durch zwei Pfarrer\n18:00 Offizielles Ende der Messe und Standabbau\n\nVerpflegungsmöglichkeiten \n\nBratwurst vom Grill\nGemüsereis aus der Paellapfanne\nSandwiches von fleischig bis vegan\nRaclette\nBier von der Brauerei Napf\nAlkoholfreie Getränke\nKaffee von Oetterli Kaffee\nZusätzlich betreibt das Spycher-Handwerk ein Bistro\n\nKosten  \n Da letztes Jahr die Fixkosten durch die Spenden der Ausstellenden gedeckt waren\, verlangen wir auch dieses Jahr keine fixen Standgebühren und arbeiten auf Spendenbasis. Wir sind überzeugt\, dass unser Vertrauen in die Menschen auch dieses Jahr nicht enttäuscht wird. \nWunsch \n Toll wäre es\, wenn ihr an euren Ständen die Besuchenden in irgendeiner Form aktiv einbinden\, Möglichkeiten bietet\, etwas zu machen\, zu erleben. \nBitte bestätigt mir doch kurz den Erhalt dieses Mails\, damit ich sicher bin\, dass alle die Informationen erhalten haben. \nUnd selbstverständlich nehme ich eure Fragen und Anregungen gerne unter bern@freiekmu.ch entgegen. \n 
URL:https://graswurzle.ch/kalender-detail/messe-huttwil/
LOCATION:Spycher-Handwerk\, Bäch 4\, Huttwil\, Bern\, 4953\, Schweiz
END:VEVENT
END:VCALENDAR