BEGIN:VCALENDAR
VERSION:2.0
PRODID:-//Graswurzle - ECPv6.11.2//NONSGML v1.0//EN
CALSCALE:GREGORIAN
METHOD:PUBLISH
X-ORIGINAL-URL:https://graswurzle.ch
X-WR-CALDESC:Veranstaltungen für Graswurzle
REFRESH-INTERVAL;VALUE=DURATION:PT1H
X-Robots-Tag:noindex
X-PUBLISHED-TTL:PT1H
BEGIN:VTIMEZONE
TZID:Europe/Paris
BEGIN:DAYLIGHT
TZOFFSETFROM:+0100
TZOFFSETTO:+0200
TZNAME:CEST
DTSTART:20230326T010000
END:DAYLIGHT
BEGIN:STANDARD
TZOFFSETFROM:+0200
TZOFFSETTO:+0100
TZNAME:CET
DTSTART:20231029T010000
END:STANDARD
END:VTIMEZONE
BEGIN:VEVENT
DTSTART;TZID=Europe/Paris:20230902T090000
DTEND;TZID=Europe/Paris:20230902T170000
DTSTAMP:20260423T141418
CREATED:20230406T133131Z
LAST-MODIFIED:20230727T045719Z
UID:19193-1693645200-1693674000@graswurzle.ch
SUMMARY:Graswurzle Bildungs-Kongress
DESCRIPTION:Anmeldung und detaillierte Informationen unter: https://graswurzle.ch/events/ \n 
URL:https://graswurzle.ch/kalender-detail/kongress/
LOCATION:MythenForum\, Reichsstrasse 12\, 6430 Schwyz\, Schweiz
END:VEVENT
END:VCALENDAR