BEGIN:VCALENDAR
VERSION:2.0
PRODID:-//Graswurzle - ECPv6.11.2//NONSGML v1.0//EN
CALSCALE:GREGORIAN
METHOD:PUBLISH
X-WR-CALNAME:Graswurzle
X-ORIGINAL-URL:https://graswurzle.ch
X-WR-CALDESC:Veranstaltungen für Graswurzle
REFRESH-INTERVAL;VALUE=DURATION:PT1H
X-Robots-Tag:noindex
X-PUBLISHED-TTL:PT1H
BEGIN:VTIMEZONE
TZID:Europe/Zurich
BEGIN:DAYLIGHT
TZOFFSETFROM:+0100
TZOFFSETTO:+0200
TZNAME:CEST
DTSTART:20230326T010000
END:DAYLIGHT
BEGIN:STANDARD
TZOFFSETFROM:+0200
TZOFFSETTO:+0100
TZNAME:CET
DTSTART:20231029T010000
END:STANDARD
END:VTIMEZONE
BEGIN:VEVENT
DTSTART;TZID=Europe/Zurich:20231028T143000
DTEND;TZID=Europe/Zurich:20231028T183000
DTSTAMP:20260423T122644
CREATED:20231018T072943Z
LAST-MODIFIED:20231018T072943Z
UID:21418-1698503400-1698517800@graswurzle.ch
SUMMARY:Regionales Lokalgruppentreffen in Winti vom 28. Oktober
DESCRIPTION:Herzliche Einladung an unser Vernetzungstreffen \nWann: Samstag\, den 28. Oktober 14.30h bis 18.00h \nAnschliessend gemütliches Nachtessen für die\, die wollen \nWo: Im Urig-Raum der Schule Morgentau\, Schaffhauserstrasse 11\, Winterthur Ziel: Regionale Lokal- und Interessengruppen- vernetzen \nAnmeldung bis zum Do\, 19.10. an: magdalena.furrer@bluewin.ch\nBitte teilt mir deutlich mit\, ob Ihr auch beim «Znacht» dabei sein möchtet oder nicht! (Wegen der Reservation) \nEingeladen ist die Region Winterthur und Umgebung: \nWinterthur\, Zell\, Hinterthurgau\, Wyland\, Zürich Unterland\, Schaffhausen\, Untersee\, auch Interessierte aus Bubikon\, Dürnten-Rüti\, Uster\, Wetzikon\, Wald\, Zürich Oberland sind herzlich willkommen. Teilt diese Einladung gerne mit weiteren interessierten Graswurzler/Innen. \nWas machen eigentlich die Graswurzler/Innen in den anderen Lokalgruppen?\nSicher gibt es ganz in der Nähe inspirierende Menschen mit den gleichen Interessen\, ähnlichem Engagement\, die Aktivitäten suchen oder planen\, die dich auch interessieren.\nAn diesem Treffen möchten wir ein «Kennenlernen» und «Vernetzen»\, das «Entdecken und Nutzen von Synergien» ermöglichen. Wir sind gemeinsam unterwegs und vernetzen uns über lokale Gruppen und Projekte hinweg\, um neue Strukturen für unser Zusammenleben zu erschaffen. \nProgramm: \n14.30 Uhr Einführung durch Magdalena Furrer\, Wurzelpflege \n14.45 Uhr Vorstellungsrunde und Berichte aus den verschiedenen Lokal- Themengruppen Kreative Anregungen aus der Gruppe \n15.30 Pause: Wer mag darf gerne etwas kleines Feines zum Teilen mitbringen.☺ 16.00 Uhr freier Austausch untereinander unter anderem an Thementischen 17.30 Uhr Schlussrunde\, Ideen und Wünsche für zukünftige Treffen \n18.00 Uhr Schluss\n18.30 gemeinsames Abendessen in einem Restaurant in der Nähe für die\, die sich angemeldet haben Mitbringen: Hausschuhe! > Der Urig-Raum darf nicht mit Schuhen betreten werden. Danke! \n\nVernetzungstreffen WintiundUmgebung\,Flyer
URL:https://graswurzle.ch/kalender-detail/regionales-lokalgruppentreffen-in-winti-vom-28-oktober/
LOCATION:Schaffhauserstrasse 11\, Winterthur\, Schaffhauserstrasse 11\, Winterthur\, Zürich\, 8400\, Schweiz
END:VEVENT
END:VCALENDAR