BEGIN:VCALENDAR
VERSION:2.0
PRODID:-//Graswurzle - ECPv6.11.2//NONSGML v1.0//EN
CALSCALE:GREGORIAN
METHOD:PUBLISH
X-ORIGINAL-URL:https://graswurzle.ch
X-WR-CALDESC:Veranstaltungen für Graswurzle
REFRESH-INTERVAL;VALUE=DURATION:PT1H
X-Robots-Tag:noindex
X-PUBLISHED-TTL:PT1H
BEGIN:VTIMEZONE
TZID:Europe/Zurich
BEGIN:DAYLIGHT
TZOFFSETFROM:+0100
TZOFFSETTO:+0200
TZNAME:CEST
DTSTART:20230326T010000
END:DAYLIGHT
BEGIN:STANDARD
TZOFFSETFROM:+0200
TZOFFSETTO:+0100
TZNAME:CET
DTSTART:20231029T010000
END:STANDARD
END:VTIMEZONE
BEGIN:VEVENT
DTSTART;TZID=Europe/Zurich:20231227T180000
DTEND;TZID=Europe/Zurich:20231227T230000
DTSTAMP:20260421T113742
CREATED:20231218T072655Z
LAST-MODIFIED:20231218T072655Z
UID:22100-1703700000-1703718000@graswurzle.ch
SUMMARY:Treffen Lokalgruppe Surselva
DESCRIPTION:Einladung: \nAm Mittwoch\, 27. Dezember\, zu Beginn der Rauhnächte\, treffen wir uns zum gemeinsamen Singen\, Lauschen einer Geschichte und anschliessender Teilete. Wiederum bei Hedi Casanova Bellaua 4\,7134 Obersaxen\, zuerst in der geschmückten\, kerzenbeleuchteten Kapelle (warm anziehen)\, dann im Stübli; diesmal schon um 18 Uhr. \nWeitere Auskünfte bei:\n \nMarco Küng\nSurval 123\n7146 Vattiz\n079 746 61 34\nsurselva@graswurzle.ch\nAnregung zum Mitwirken bei der Aufklärung zur WHO: \nGestern hab ich ein Infomail von Aletheia erhalten und spontan Flyer dazu für die noch nicht abgedeckten Orte im Lugnez gesponsert – vielleicht möchte auch jemand von Euch sein Umfeld damit ‚beschenken‘: \nhttps://www.flyer-ueberall.ch/achtung-gefahr-who/ \n  \nIch wünsche Euch allen eine besinnliche Weihnachtszeit und einen guten Übergang ins neue Jahr\, \ncordials salids \nMarco
URL:https://graswurzle.ch/kalender-detail/treffen-lokalgruppe-surselva/
LOCATION:Obersaxen\, Bellaua 4\, Obersaxen\, 7134\, Schweiz
END:VEVENT
END:VCALENDAR