BEGIN:VCALENDAR
VERSION:2.0
PRODID:-//Graswurzle - ECPv6.11.2//NONSGML v1.0//EN
CALSCALE:GREGORIAN
METHOD:PUBLISH
X-ORIGINAL-URL:https://graswurzle.ch
X-WR-CALDESC:Veranstaltungen für Graswurzle
REFRESH-INTERVAL;VALUE=DURATION:PT1H
X-Robots-Tag:noindex
X-PUBLISHED-TTL:PT1H
BEGIN:VTIMEZONE
TZID:Europe/Zurich
BEGIN:DAYLIGHT
TZOFFSETFROM:+0100
TZOFFSETTO:+0200
TZNAME:CEST
DTSTART:20240331T010000
END:DAYLIGHT
BEGIN:STANDARD
TZOFFSETFROM:+0200
TZOFFSETTO:+0100
TZNAME:CET
DTSTART:20241027T010000
END:STANDARD
END:VTIMEZONE
BEGIN:VEVENT
DTSTART;TZID=Europe/Zurich:20240210T090000
DTEND;TZID=Europe/Zurich:20240210T180000
DTSTAMP:20260421T075605
CREATED:20231123T121504Z
LAST-MODIFIED:20231123T162238Z
UID:21935-1707555600-1707588000@graswurzle.ch
SUMMARY:Neue Wege - Der Kongress
DESCRIPTION:Infos und Anmeldung
URL:https://graswurzle.ch/kalender-detail/neue-wege-der-kongress/
LOCATION:MythenForum\, Reichsstrasse 12\, 6430 Schwyz\, Schweiz
END:VEVENT
END:VCALENDAR