BEGIN:VCALENDAR
VERSION:2.0
PRODID:-//Graswurzle - ECPv6.11.2//NONSGML v1.0//EN
CALSCALE:GREGORIAN
METHOD:PUBLISH
X-WR-CALNAME:Graswurzle
X-ORIGINAL-URL:https://graswurzle.ch
X-WR-CALDESC:Veranstaltungen für Graswurzle
REFRESH-INTERVAL;VALUE=DURATION:PT1H
X-Robots-Tag:noindex
X-PUBLISHED-TTL:PT1H
BEGIN:VTIMEZONE
TZID:Europe/Zurich
BEGIN:DAYLIGHT
TZOFFSETFROM:+0100
TZOFFSETTO:+0200
TZNAME:CEST
DTSTART:20240331T010000
END:DAYLIGHT
BEGIN:STANDARD
TZOFFSETFROM:+0200
TZOFFSETTO:+0100
TZNAME:CET
DTSTART:20241027T010000
END:STANDARD
END:VTIMEZONE
BEGIN:VEVENT
DTSTART;TZID=Europe/Zurich:20240914T160000
DTEND;TZID=Europe/Zurich:20240914T230000
DTSTAMP:20260420T195852
CREATED:20240521T084356Z
LAST-MODIFIED:20240521T084356Z
UID:23254-1726329600-1726354800@graswurzle.ch
SUMMARY:Sommerfest Lokalgruppe Winterthur
DESCRIPTION:  \nPDF Sommerfest 2024\, Winterthur
URL:https://graswurzle.ch/kalender-detail/sommerfest-lokalgruppe-winterthur/
LOCATION:Waldschenke Wülflingen\, obere Brühlbergstrasse\, Winterthur\, 8408\, Schweiz
END:VEVENT
END:VCALENDAR