BEGIN:VCALENDAR
VERSION:2.0
PRODID:-//Graswurzle - ECPv6.11.2//NONSGML v1.0//EN
CALSCALE:GREGORIAN
METHOD:PUBLISH
X-ORIGINAL-URL:https://graswurzle.ch
X-WR-CALDESC:Veranstaltungen für Graswurzle
REFRESH-INTERVAL;VALUE=DURATION:PT1H
X-Robots-Tag:noindex
X-PUBLISHED-TTL:PT1H
BEGIN:VTIMEZONE
TZID:Europe/Zurich
BEGIN:DAYLIGHT
TZOFFSETFROM:+0100
TZOFFSETTO:+0200
TZNAME:CEST
DTSTART:20240331T010000
END:DAYLIGHT
BEGIN:STANDARD
TZOFFSETFROM:+0200
TZOFFSETTO:+0100
TZNAME:CET
DTSTART:20241027T010000
END:STANDARD
END:VTIMEZONE
BEGIN:VEVENT
DTSTART;TZID=Europe/Zurich:20241112T190000
DTEND;TZID=Europe/Zurich:20241112T210000
DTSTAMP:20260420T152355
CREATED:20241023T080228Z
LAST-MODIFIED:20241023T080228Z
UID:24166-1731438000-1731445200@graswurzle.ch
SUMMARY:Friedensstammtisch Olten
DESCRIPTION:Gerade in der heutigen Zeit\, in der wir im Kleinen wie im Grossen vor grossen Herausforderungen stehen\, soll Frieden unsere Ausrichtung sein. Aus diesem Grund lädt der Friedensstammtisch Olten\, eine Initiative des Büros für Neue Politik (www.einestimme.ch)\, zu drei Friedens-Impuls- Abenden ein. \n12.11.2024: Ja zu Frieden: Damit in unserer Welt Frieden entstehen und dauerhaft gesichert werden kann\, braucht es eine umfassende Friedensarbeit. Referat & Gespräch darüber\, welche Anforderungen Multilaterale Friedensprozesse in der heutigen Welt erfüllen müssen. Denis Bitterli (Schulleiter und Lehrer) \n10.12.2024: Licht – aus spiritueller Sicht: Licht ist mehr als physikalisch messbare Schwingung. Licht ist in jedem von uns. Wie stark ausgeprägt ist entscheidend für unsere Ausstrahlung. Gabriele Schröter (Vorträge und Seminare zu Gesundheit) \n14.01.2025: Leben in Einklang mit mir und der Natur: Friedensfähigkeit beginnt bei uns selber. Die Natur kann uns dies lehren. Ein Workshop mit Bruno Rieser (Permakultur und Gesundheit) \nIm Begegnungszentrum Cultibo\, Aarauerstr. 72\, Olten\, 19.00 Uhr – 21.00 Uhr\,\nKosten: Energieausgleich für die Raummiete und Referenten.\nKeine Anmeldung nötig. Jeder Abend kann einzeln besucht werden. \nBei Fragen: 079 289 86 98 (Markus) oder 079 368 60 29 (Barbara) \n\n\n\n  \nFlyTril def 2\, A4 hoch
URL:https://graswurzle.ch/kalender-detail/friedensstammtisch-olten/
LOCATION:Begegnungszentrum Cultibo\, Aarauerstrasse 72\, Olten\, 4600\, Schweiz
END:VEVENT
END:VCALENDAR