BEGIN:VCALENDAR
VERSION:2.0
PRODID:-//Graswurzle - ECPv6.11.2//NONSGML v1.0//EN
CALSCALE:GREGORIAN
METHOD:PUBLISH
X-ORIGINAL-URL:https://graswurzle.ch
X-WR-CALDESC:Veranstaltungen für Graswurzle
REFRESH-INTERVAL;VALUE=DURATION:PT1H
X-Robots-Tag:noindex
X-PUBLISHED-TTL:PT1H
BEGIN:VTIMEZONE
TZID:Europe/Zurich
BEGIN:DAYLIGHT
TZOFFSETFROM:+0100
TZOFFSETTO:+0200
TZNAME:CEST
DTSTART:20240331T010000
END:DAYLIGHT
BEGIN:STANDARD
TZOFFSETFROM:+0200
TZOFFSETTO:+0100
TZNAME:CET
DTSTART:20241027T010000
END:STANDARD
END:VTIMEZONE
BEGIN:VEVENT
DTSTART;TZID=Europe/Zurich:20241115T190000
DTEND;TZID=Europe/Zurich:20241115T230000
DTSTAMP:20260420T183344
CREATED:20241017T081959Z
LAST-MODIFIED:20241017T081959Z
UID:24160-1731697200-1731711600@graswurzle.ch
SUMMARY:Bowling & Vernetzungstreff Lokalgruppe Zug
DESCRIPTION:
URL:https://graswurzle.ch/kalender-detail/bowling-vernetzungstreff-lokalgruppe-zug/
LOCATION:Fun Bowl\, Zürcherstrasse 183\, Affoltern am Albis\, 8910\, Schweiz
END:VEVENT
END:VCALENDAR