BEGIN:VCALENDAR
VERSION:2.0
PRODID:-//Graswurzle - ECPv6.11.2//NONSGML v1.0//EN
CALSCALE:GREGORIAN
METHOD:PUBLISH
X-ORIGINAL-URL:https://graswurzle.ch
X-WR-CALDESC:Veranstaltungen für Graswurzle
REFRESH-INTERVAL;VALUE=DURATION:PT1H
X-Robots-Tag:noindex
X-PUBLISHED-TTL:PT1H
BEGIN:VTIMEZONE
TZID:Europe/Zurich
BEGIN:DAYLIGHT
TZOFFSETFROM:+0100
TZOFFSETTO:+0200
TZNAME:CEST
DTSTART:20250330T010000
END:DAYLIGHT
BEGIN:STANDARD
TZOFFSETFROM:+0200
TZOFFSETTO:+0100
TZNAME:CET
DTSTART:20251026T010000
END:STANDARD
END:VTIMEZONE
BEGIN:VEVENT
DTSTART;TZID=Europe/Zurich:20250111T180000
DTEND;TZID=Europe/Zurich:20250111T230000
DTSTAMP:20260421T061009
CREATED:20241221T080114Z
LAST-MODIFIED:20250108T164030Z
UID:24552-1736618400-1736636400@graswurzle.ch
SUMMARY:AUSGEBUCHT Lokalgruppe Zug - Vernetzungstreff  Flipperspass
DESCRIPTION:
URL:https://graswurzle.ch/kalender-detail/lokalgruppe-zug-vernetzungstreff-flipperspass/
LOCATION:The Pinball-Hall\, Neuhof 1\, Sins\, Aargau\, 5643\, Schweiz
END:VEVENT
END:VCALENDAR