BEGIN:VCALENDAR
VERSION:2.0
PRODID:-//Graswurzle - ECPv6.11.2//NONSGML v1.0//EN
CALSCALE:GREGORIAN
METHOD:PUBLISH
X-ORIGINAL-URL:https://graswurzle.ch
X-WR-CALDESC:Veranstaltungen für Graswurzle
REFRESH-INTERVAL;VALUE=DURATION:PT1H
X-Robots-Tag:noindex
X-PUBLISHED-TTL:PT1H
BEGIN:VTIMEZONE
TZID:Europe/Zurich
BEGIN:DAYLIGHT
TZOFFSETFROM:+0100
TZOFFSETTO:+0200
TZNAME:CEST
DTSTART:20250330T010000
END:DAYLIGHT
BEGIN:STANDARD
TZOFFSETFROM:+0200
TZOFFSETTO:+0100
TZNAME:CET
DTSTART:20251026T010000
END:STANDARD
END:VTIMEZONE
BEGIN:VEVENT
DTSTART;TZID=Europe/Zurich:20250309T163000
DTEND;TZID=Europe/Zurich:20250309T233000
DTSTAMP:20260423T205335
CREATED:20250305T152529Z
LAST-MODIFIED:20250305T152529Z
UID:24844-1741537800-1741563000@graswurzle.ch
SUMMARY:Lesung und Musik
DESCRIPTION:Anmeldung an: alain.vannod@bluewin.ch
URL:https://graswurzle.ch/kalender-detail/lesung-und-musik/
LOCATION:Begegnungsraum Wildwiese\, St. Gallen\, St. Gallen\, Switzerland
END:VEVENT
END:VCALENDAR