BEGIN:VCALENDAR
VERSION:2.0
PRODID:-//Graswurzle - ECPv6.11.2//NONSGML v1.0//EN
CALSCALE:GREGORIAN
METHOD:PUBLISH
X-ORIGINAL-URL:https://graswurzle.ch
X-WR-CALDESC:Veranstaltungen für Graswurzle
REFRESH-INTERVAL;VALUE=DURATION:PT1H
X-Robots-Tag:noindex
X-PUBLISHED-TTL:PT1H
BEGIN:VTIMEZONE
TZID:Europe/Zurich
BEGIN:DAYLIGHT
TZOFFSETFROM:+0100
TZOFFSETTO:+0200
TZNAME:CEST
DTSTART:20250330T010000
END:DAYLIGHT
BEGIN:STANDARD
TZOFFSETFROM:+0200
TZOFFSETTO:+0100
TZNAME:CET
DTSTART:20251026T010000
END:STANDARD
END:VTIMEZONE
BEGIN:VEVENT
DTSTART;TZID=Europe/Zurich:20250314T190000
DTEND;TZID=Europe/Zurich:20250314T220000
DTSTAMP:20260423T205311
CREATED:20250129T155553Z
LAST-MODIFIED:20250129T155553Z
UID:24614-1741978800-1741989600@graswurzle.ch
SUMMARY:Lokalgruppe Zug - Jin Shin Jyutsu Abend
DESCRIPTION:
URL:https://graswurzle.ch/kalender-detail/lokalgruppe-zug-jin-shin-jyutsu-abend/
LOCATION:Jin Shin\, Untermüli 9\, Zug\, Zug\, 6300\, Switzerland
END:VEVENT
END:VCALENDAR