BEGIN:VCALENDAR
VERSION:2.0
PRODID:-//Graswurzle - ECPv6.11.2//NONSGML v1.0//EN
CALSCALE:GREGORIAN
METHOD:PUBLISH
X-WR-CALNAME:Graswurzle
X-ORIGINAL-URL:https://graswurzle.ch
X-WR-CALDESC:Veranstaltungen für Graswurzle
REFRESH-INTERVAL;VALUE=DURATION:PT1H
X-Robots-Tag:noindex
X-PUBLISHED-TTL:PT1H
BEGIN:VTIMEZONE
TZID:UTC
BEGIN:STANDARD
TZOFFSETFROM:+0000
TZOFFSETTO:+0000
TZNAME:UTC
DTSTART:20230101T000000
END:STANDARD
END:VTIMEZONE
BEGIN:VEVENT
DTSTART;TZID=UTC:20230404T160000
DTEND;TZID=UTC:20230404T200000
DTSTAMP:20260423T205004
CREATED:20230206T095302Z
LAST-MODIFIED:20230206T095431Z
UID:18245-1680624000-1680638400@graswurzle.ch
SUMMARY:Geschäftsstellen-Apéro 4. April
DESCRIPTION:Parkieren\nIm Parkhaus der Urner Kantonalbank\, Bahnhofstrasse 1\, 6460 Altdorf
URL:https://graswurzle.ch/kalender-detail/geschaeftsstellen-apero-4-4-23/
LOCATION:Graswurzle-Geschäftsstelle\, Rathausplatz 4\, 6460 Altdorf\, Uri\, Schweiz
CATEGORIES:Graswurzle-Veranstaltung
ATTACH;FMTTYPE=image/jpeg:https://graswurzle.ch/wp-content/uploads/2023/02/graswurzle-geschaeftsstellen-aperos-1hj-2023.jpg
END:VEVENT
END:VCALENDAR