BEGIN:VCALENDAR
VERSION:2.0
PRODID:-//Graswurzle - ECPv6.11.2//NONSGML v1.0//EN
CALSCALE:GREGORIAN
METHOD:PUBLISH
X-ORIGINAL-URL:https://graswurzle.ch
X-WR-CALDESC:Veranstaltungen für Graswurzle
REFRESH-INTERVAL;VALUE=DURATION:PT1H
X-Robots-Tag:noindex
X-PUBLISHED-TTL:PT1H
BEGIN:VTIMEZONE
TZID:Europe/Paris
BEGIN:DAYLIGHT
TZOFFSETFROM:+0100
TZOFFSETTO:+0200
TZNAME:CEST
DTSTART:20230326T010000
END:DAYLIGHT
BEGIN:STANDARD
TZOFFSETFROM:+0200
TZOFFSETTO:+0100
TZNAME:CET
DTSTART:20231029T010000
END:STANDARD
END:VTIMEZONE
BEGIN:VTIMEZONE
TZID:UTC
BEGIN:STANDARD
TZOFFSETFROM:+0000
TZOFFSETTO:+0000
TZNAME:UTC
DTSTART:20230101T000000
END:STANDARD
END:VTIMEZONE
BEGIN:VEVENT
DTSTART;TZID=Europe/Paris:20230603T140000
DTEND;TZID=Europe/Paris:20230603T180000
DTSTAMP:20260423T174926
CREATED:20230415T073258Z
LAST-MODIFIED:20230415T073348Z
UID:19276-1685800800-1685815200@graswurzle.ch
SUMMARY:Vernetzungstreffen Zürcher Oberland
DESCRIPTION:Samstag den 3. Juni 14.00 bis 18.00Uhr Anschliessend gemütliches Nachtessen \nIm Saal des Restaurant ‚Turandot‘ Uster (www.turandot.ch / Aathalstr.5 / Bus Nr. 845\,Haltest. Florastrasse) \nZiel: Regionale Lokal- und Interessengruppen vernetzen \nAngesprochen sind die Regionen: Bauma\, Bubikon\, Dürnten\, Rüti\, Uster\, Wetzikon\, Wald und Zell.                 Es sind nicht alle die da wohnen auch in einer Gruppe angeschlossen. Ihr dürft diese Informationen gerne teilen. \nWeisst du seit drei Jahren nicht mehr mit welchen Menschen du einfach ungezwungen sein kannst? Möchtest du dich mal wieder inspirieren lassen? \nBist du aktiv in der Bildung\, Kultur\, Gesundheit\, Landwirtschaft\, Gärtnern\, Energie\, Alternative Zahlungsmittel etc.\, so kannst du dich hier austauschen und mit anderen verbinden. Wenn du daran interessiert bist\, was läuft und noch nicht weißt\, wo du dich einbringen willst\, findest du hier inspirierende Menschen. Wir sind gemeinsam unterwegs und vernetzen uns über lokale Gruppen und Projekte hinweg\, um neue Strukturen für unser Zusammenleben zu erschaffen. \nProgramm: \n14.00 Uhr Einführung durch Ursula dalla Valle\, Wurzelpflege \n14.15 Uhr Kurze Vorstellungsrunde und Berichte aus den Themengruppen \nKreative Inputs aus der Gruppe \nPaus \n16.00 Uhr freier Austausch untereinander \n17.30 Uhr Schlussrunde\, Ideen und Wünsche für zukünftige Treffen \n18.00 Uhr Schluss und gemeinsames Abendessen \n                                               \nAnstelle von Saalmiete benötigen wir eine gewisse Summe an Konsumation (Essen und Getränk) \nGebt bei der Anmeldung bitte folgendes an: \n\nIch/wir komme(n) gerne an das Treffen\nIch/wir bleibe(n) gerne zum gemütlichen Nachtessen\n\nAnmeldung bitte bis 10. Mai an Maja Schumacher \nMail: schumacher.maja@gmail.com \nEs würde uns sehr freuen\, dich zu sehen. \nUrsula und Maja
URL:https://graswurzle.ch/kalender-detail/vernetzungstreffen-zuercher-oberland/
LOCATION:Restaurant Turandot\, Aathalstrasse 5\, Uster\, Zürich\, 8610
END:VEVENT
BEGIN:VEVENT
DTSTART;TZID=Europe/Paris:20230604T133000
DTEND;TZID=Europe/Paris:20230604T200000
DTSTAMP:20260423T174926
CREATED:20230501T043304Z
LAST-MODIFIED:20230501T043304Z
UID:19482-1685885400-1685908800@graswurzle.ch
SUMMARY:Vernetzungstreffen Graubünden
DESCRIPTION:Angestossen durch das nationale Graswurzle Projekt „Wurzelpflege“ wollen wir diese tolle Idee umsetzten. Gerne laden wir deshalb die Lokalgruppen aus der Nachbarschaft zum Vernetzungstreffen nach Chur ein. \nSpeziell zu Gast: Prisca Würgler \n\n\n\nProgramm: \n13.30 Eintreffen (Bowle „mit“ und „ohne“ wird offeriert) \n14.30 Begrüssung durch die Lokalgruppe Chur\nDie eingeladenen Lokalgruppen stellen sich kurz vor. \n15:30 Prisca Würgler erzählt über die Hintergründe der Graswuzle\, über die aktuellen Aktivitäten und wirft einen Blick in die Zukunft. \nIm Anschluss Grillieren und gemütliches Beisammensein Verpflegung \n\nBei der Hütte gibt es eine Feuerstelle zum Grillieren\nEssen: jeder bringt was mit (Teilete)\nGetränke vorhanden: Tee\, Kaffee\, Süssmost\, Stadtbier\, Quellwasser (Brunnen)\nAnmeldung \nerwünscht bis 27. Mai 2023 über die jeweiligen Lokalgruppenleiter Neue Graswurzle-Interessierte sind auch herzlich willkommen\, \nAnmeldung bitte an chur@graswurzle.ch Kosten \nKollekte für Miete der Bärenhütte und Getränke Anreise\n\n\nBitte mit ÖV anreisen oder Fahrgemeinschaften bilden (sehr wenige PP)\nAb Chur Bahnhofplatz mit Buslinie 2 bis Kleinwaldegg (Kartenausschnitt)\nMit dem Auto: Ab dem 3. Kreisel nach der Autobahnausfahrt Chur Nord (ca. 3 km) der blauen Linie auf der Karte folgen.\nDie Bärenhütte wird über die auf der Karte rot eingezeichneten Routen zu Fuss erreicht. Die Schuhe sollten tauglich sein für Waldwege.\nWir freuen uns auf euch\, willkommen in unserer schönen Alpenstadt!\n\n\n\n\n\n\n\n  \nbaerenhuette
URL:https://graswurzle.ch/kalender-detail/vernetzungstreffen-graubuenden/
LOCATION:Bärenhütte Chur\, Chur\, Graubünden\, 7000\, Schweiz
END:VEVENT
BEGIN:VEVENT
DTSTART;TZID=UTC:20230606T160000
DTEND;TZID=UTC:20230606T200000
DTSTAMP:20260423T174926
CREATED:20230206T095532Z
LAST-MODIFIED:20230206T095532Z
UID:18249-1686067200-1686081600@graswurzle.ch
SUMMARY:Geschäftsstellen-Apéro 6. Juni
DESCRIPTION:Parkieren\nIm Parkhaus der Urner Kantonalbank\, Bahnhofstrasse 1\, 6460 Altdorf
URL:https://graswurzle.ch/kalender-detail/geschaeftsstellen-apero-6-6-23/
LOCATION:Graswurzle-Geschäftsstelle\, Rathausplatz 4\, 6460 Altdorf\, Uri\, Schweiz
CATEGORIES:Graswurzle-Veranstaltung
ATTACH;FMTTYPE=image/jpeg:https://graswurzle.ch/wp-content/uploads/2023/02/graswurzle-geschaeftsstellen-aperos-1hj-2023.jpg
END:VEVENT
BEGIN:VEVENT
DTSTART;TZID=Europe/Paris:20230611T103000
DTEND;TZID=Europe/Paris:20230611T170000
DTSTAMP:20260423T174926
CREATED:20230501T042230Z
LAST-MODIFIED:20230503T053908Z
UID:19478-1686479400-1686502800@graswurzle.ch
SUMMARY:Vernetzungstreffen Bern-Seeland-Bucheggberg
DESCRIPTION:Wir freuen uns\, euch für dieses Vernetzungstreffen einzuladen. Bei diesem Treffen können wir uns kennenlernen\, austauschen\, lachen\, neues kennenlernen und vielleicht die eine oder andere Idee aufnehmen und verfolgen. \nWenn du daran interessiert bist\, was aktuell bei Graswurzle läuft und noch nicht weisst\, wo du dich einbringen willst\, findest du hier inspirierende Menschen mit zukunftsweisenden Projekten. Wir sind gemeinsam unterwegs und vernetzen uns über lokale Projekte hinweg\, um neue Strukturen für unser Zusammenleben zu erschaffen \n\n\n\nWir freuen uns\, dieses Treffen auf dem Otti-Biohof durchführen zu können. Das Programm ist wie folgt: \n\n\n\n\n\nAb 1030 Uhr   Eintreffen\n1050 Uhr         kurze Begrüssung\n1100 Uhr         Führung Hof und Mühle in kleinen Gruppen\n1200 Uhr         Apéro riche\n1330 Uhr         Aktuelles zu Graswurzle durch Prisca Würgler\n1430 Uhr         Kaffee und Kuchen\nca. 1700 Uhr   Ende der Veranstaltung\n\n\n\n\n\nAnmeldung: Mail-Vorlage (bitte mit folgenden Angaben)\nName\, Vorname (wenn Kind bitte Alter angeben)\, E-Mail-Adresse aller Besucher Wer gerne einen Kuchen ans Dessertbuffet beisteuert\, bitte ebenfalls vermerken \nAnmeldung bis am 21. Mai 2023 \nKosten: pauschal CHF 40 für Erwachsene / Kinder von 6 – 16 Jahren CHF 25\nIn diesem Preis sind enthalten: Essen\, Trinken\, Führungen\, Kutschenfahrt\nWein\, Bier und Glacé sind direkt beim Bezug zu bezahlen\n=> Beitrag wird direkt vor Ort bar einkassiert -> bitte entsprechend bereithalten \nWir freuen uns auf deine Teilnahme.\nFür Rückfragen stehen dir gerne zur Verfügung \n\n\n\n\nPhilippe Otti \nphilippe.otti@mailbox.org \n079 687 92 46 \n\n\nEinladung Vernetzung 11062023 \nJürg Umhang \njuerg.umhang@gmx.ch \n079 698 32 23
URL:https://graswurzle.ch/kalender-detail/vernetzungstreffen-bern-seeland-bucheggberg/
LOCATION:3298 Oberwil bei Büren Otti-Biohof\, Im Dorf 34\, Oberwil bei Büren\, Bern\, 3298\, Schweiz
END:VEVENT
END:VCALENDAR