BEGIN:VCALENDAR
VERSION:2.0
PRODID:-//Graswurzle - ECPv6.11.2//NONSGML v1.0//EN
CALSCALE:GREGORIAN
METHOD:PUBLISH
X-ORIGINAL-URL:https://graswurzle.ch
X-WR-CALDESC:Veranstaltungen für Graswurzle
REFRESH-INTERVAL;VALUE=DURATION:PT1H
X-Robots-Tag:noindex
X-PUBLISHED-TTL:PT1H
BEGIN:VTIMEZONE
TZID:Europe/Paris
BEGIN:DAYLIGHT
TZOFFSETFROM:+0100
TZOFFSETTO:+0200
TZNAME:CEST
DTSTART:20230326T010000
END:DAYLIGHT
BEGIN:STANDARD
TZOFFSETFROM:+0200
TZOFFSETTO:+0100
TZNAME:CET
DTSTART:20231029T010000
END:STANDARD
END:VTIMEZONE
BEGIN:VEVENT
DTSTART;TZID=Europe/Paris:20230707T193000
DTEND;TZID=Europe/Paris:20230707T230000
DTSTAMP:20260423T155710
CREATED:20230630T062158Z
LAST-MODIFIED:20230630T072442Z
UID:20017-1688758200-1688770800@graswurzle.ch
SUMMARY:Lokalgruppe Thun "Monatstreffen"
DESCRIPTION:Lokalgruppen-/Vernetzungstreffen „Graswurzle“ & „Urig Thun“ Teilete: Getränke oder Selbstgemachtes oder Knabereien. \nIm Garten von „Urig Thun“ am Gummweg in Steffisburg. Nach dem Kreisel\, nach dem ersten Haus rechts\, ca. 50m \nParkplätze hat es entweder bei der POST auf der anderen Seite der Zulg oder weiter hinten am Gummweg bei der Badi. ÖV: Steffisburg Platz (weiter in Fahrtrichtung bis zum Kreisel\, dann rechts in den Gummweg). Velo: Parkplatz im Garten \nBei schlechtem Wetter gibt es einen alternativen Treffpunkt\, drinnen am Schärme. \nBitte fragt kurzfrist hier nach\, ob sich der Treffpunkt geändert hat: thun@graswurzle.ch \nKollekte.
URL:https://graswurzle.ch/kalender-detail/lokalgruppe-thun-monatstreffen/
END:VEVENT
BEGIN:VEVENT
DTSTART;VALUE=DATE:20230708
DTEND;VALUE=DATE:20230710
DTSTAMP:20260423T155710
CREATED:20230424T110503Z
LAST-MODIFIED:20230525T130106Z
UID:19470-1688774400-1688947199@graswurzle.ch
SUMMARY:Graswurzle Sommerfest
DESCRIPTION:Lasst uns feiern! Am Wochenende vom 8. und 9. Juli findet das grosse Graswurzle-Sommerfest in Stetten AG statt. \nFreut euch auf zwei Tage Spass\, Musik\, Tanz\, feines Essen und schöne Begegnungen! \nWir haben ein reichhaltiges\, abwechslungsreiches Programm für Gross und Klein vorbereitet: Auf den insgesamt drei Bühnen im Innen- und Aussenbereich finden Konzerte\, kabarettistische Darbietungen\, Theater und Zauberei statt. Auf der grossen Tanzfläche könnt ihr von früh bis spät die Hüften schwingen. 50 Marktstände locken mit attraktiven Angeboten. Wer es ruhiger mag\, findet lauschige Ecken zum Entspannen und sich in Ruhe mit anderen auszutauschen. \n \nWeitere Infos und Anmeldung \n 
URL:https://graswurzle.ch/kalender-detail/graswurzle-sommerfest/
LOCATION:Bottis Kräutergärtnerei\, Grabenmattenstrasse 18\, 5608 Stetten\, AG\, Schweiz
END:VEVENT
BEGIN:VEVENT
DTSTART;TZID=Europe/Paris:20230722T100000
DTEND;TZID=Europe/Paris:20230722T160000
DTSTAMP:20260423T155710
CREATED:20230712T130255Z
LAST-MODIFIED:20230712T130255Z
UID:20140-1690020000-1690041600@graswurzle.ch
SUMMARY:Harzsalbe herstellen - Themengruppe Gesundheit
DESCRIPTION:Tagesablauf: \n10:00 – 10:30 Eintreffen\, Tee und Kaffee \n10:30 – 12:30 durch den Wald streifen und Harz «pflücken» \n12:30 – 13:30 Mitagessen während dem das Harz schmilzt \n13:30 – 16:00 Herstellen der Salbe \n\nKosten: \nMaterial und Spende \n\nMitbringen: \nAltes Konfitüreglas \nHolzspachtel \nEtwas zum Mittagessen (keine Einkaufsmöglichkeit in der Nähe) \n\nTreffpunkt und Kontakt \n\nFranziska Welter                                Anmeldung \nRumstalstr.49                                     zebulon@gmx.ch \n8408 Winterthur \n078 734 07 31 \nKosten: \nMaterial und Spende \nBitte teilt mir mit ob ihr mit dem ÖV kommt\, so kann ich Euch am Bahnhof Wülflingen abholen\, ausser ihr geniesst einen 20minütigen Spaziergang
URL:https://graswurzle.ch/kalender-detail/harzsalbe-herstellen-themengruppe-gesundheit/
LOCATION:Winterthur\, Winterthur\, Zürich\, Schweiz
END:VEVENT
END:VCALENDAR