BEGIN:VCALENDAR
VERSION:2.0
PRODID:-//Graswurzle - ECPv6.11.2//NONSGML v1.0//EN
CALSCALE:GREGORIAN
METHOD:PUBLISH
X-ORIGINAL-URL:https://graswurzle.ch
X-WR-CALDESC:Veranstaltungen für Graswurzle
REFRESH-INTERVAL;VALUE=DURATION:PT1H
X-Robots-Tag:noindex
X-PUBLISHED-TTL:PT1H
BEGIN:VTIMEZONE
TZID:Europe/Zurich
BEGIN:DAYLIGHT
TZOFFSETFROM:+0100
TZOFFSETTO:+0200
TZNAME:CEST
DTSTART:20230326T010000
END:DAYLIGHT
BEGIN:STANDARD
TZOFFSETFROM:+0200
TZOFFSETTO:+0100
TZNAME:CET
DTSTART:20231029T010000
END:STANDARD
END:VTIMEZONE
BEGIN:VTIMEZONE
TZID:Europe/Paris
BEGIN:DAYLIGHT
TZOFFSETFROM:+0100
TZOFFSETTO:+0200
TZNAME:CEST
DTSTART:20230326T010000
END:DAYLIGHT
BEGIN:STANDARD
TZOFFSETFROM:+0200
TZOFFSETTO:+0100
TZNAME:CET
DTSTART:20231029T010000
END:STANDARD
END:VTIMEZONE
BEGIN:VEVENT
DTSTART;TZID=Europe/Zurich:20231007T140000
DTEND;TZID=Europe/Zurich:20231007T190000
DTSTAMP:20260423T105929
CREATED:20230923T093804Z
LAST-MODIFIED:20230923T094555Z
UID:21121-1696687200-1696705200@graswurzle.ch
SUMMARY:Einladung zur Gründung der neuen Lokalgruppe Moesano /Invito alla fondazione del nuovo gruppo locale Moesano
DESCRIPTION:Wir treffen uns erstmals zur Gründung der neuen Lokalgruppe Moesano (für die Regionen Valle Calanca\, Mesolcina\, Leventina\, Riviera\, Blenio und Bellinzona) Alle Graswurzler *innen sind herzlich eingeladen! Ci riuniamo per la prima volta per fondare il nuovo gruppo locale Moesano (per le regioni Valle Calanca\, Mesolcina\, Leventina\, Riviera\, Blenio e Bellinzona). Tutti i Graswurzler sono cordialmente invitati! \n\nJeder darf was mitbringen\, muss aber nicht\, absolut freiwillig. Tutti possono portare qualcosa\, ma non sono obbligati a farlo\, in modo assolutamente volontario.\n\n\nBitte per E-Mail anmelden. Das Tel. nur verwenden\, wenn der Ort am Tag des Treffens nicht gefunden werden kann. Si prega di registrarsi via e-mail. Utilizzare il tel. solo se non è possibile trovare la sede il giorno dell’incontro. \n\nIvo Christoph Karunja Ambarees Grenacher \n091 291 36 65 \nkarunja@greenmail.ch \n\n3 Einladung\, Invito\, 1. Vernetzungstreffen\n\n\n 
URL:https://graswurzle.ch/kalender-detail/einladung-zur-gruendung-der-neuen-lokalgruppe-moesano-invito-alla-fondazione-del-nuovo-gruppo-locale-moesano/
LOCATION:Lokalgruppe  Moesano\, Via Poz 22\, Braggio\, Graubünden\, 6544\, Schweiz
END:VEVENT
BEGIN:VEVENT
DTSTART;TZID=Europe/Paris:20231008T100000
DTEND;TZID=Europe/Paris:20231008T170000
DTSTAMP:20260423T105929
CREATED:20230812T060819Z
LAST-MODIFIED:20230812T060819Z
UID:20678-1696759200-1696784400@graswurzle.ch
SUMMARY:Frei sein - Die Messe!
DESCRIPTION:Am 8. Oktober organisiert der Verein Graswurzle einen Anlass unter dem Motto: Frei sein: Die Messe Dabei stehen lösungsorientierte Ideen und Projekte im Vordergrund\, die die Teilnehmenden inspirieren sollen\, die Eigenverantwortung für ein freies Leben an die Hand zu nehmen. \nWir fördern die Begegnung von Mensch zu Mensch und streben die Zusammenarbeit mit anderen gleichgesinnten Organisationen an. An diesem Anlass erfahren die Besucher von zukunftsorientierten Projekten und haben die Möglichkeit zu vernetzen und sich auszutauschen. \nweitere Infos / Anmeldung und Programm
URL:https://graswurzle.ch/kalender-detail/frei-sein-die-messe/
LOCATION:Biberena\, Emmenstrasse 3\, Biberist\, Solothurn\, 4562\, Schweiz
END:VEVENT
BEGIN:VEVENT
DTSTART;TZID=Europe/Paris:20231013T200000
DTEND;TZID=Europe/Paris:20231013T220000
DTSTAMP:20260423T105929
CREATED:20230821T143932Z
LAST-MODIFIED:20230821T143932Z
UID:20852-1697227200-1697234400@graswurzle.ch
SUMMARY:Danser Encore
DESCRIPTION:HK ist ein world music Künstler\, der Grenzen verschmelzen lässt\, in seiner Musik und in seinen Texten. Danser encore\, ein Lied\, welches während der Pandemie entstanden ist\, Millionen von Fans begeistert hat und über unsere Grenzen hinaus reist. Eine ansteckende Melodie\, eine fröhliche Respektlosigkeit\, eine unbändige Lust\, sich zu treffen\, zu säen und sich zu lieben\, zu lächeln und zu tanzen. “Mir hat es nie an etwas gefehlt\, vor allem nicht an Liebe\, in dieser proletarischen Arbeiterstadt\, in der ich das Licht der Welt erblickte; in diesen Städten\, die dich prägen und deinen Charakter formen\, indem sie dich schwören lassen\, nie locker zu lassen; mit den Aromen von Portugal\, Nordafrika und Italien\, Ch’timi Weltbürger\, Roubaix hat aus mir gemacht\, wer ich bin….”. so beschreibt sich Kaddour Hadadi\, genannt HK\, der 1976 in einem Arbeiterviertel dieser nordfranzösischen Arbeiterstadt geboren wurde. Als Sohn eines Obst- und Gemüsehändlers aus der Kabylei besuchte er schon in jungen Jahren die Märkte\, um seinem Vater zu helfen: Blaue Schürze\, Mütze und Stepptanz –alles zur Freude der Kunden. Seine erste Bühne\, sozusagen! \nHier kannst du dein Tickt kaufen
URL:https://graswurzle.ch/kalender-detail/danser-encore/
LOCATION:Volkhaus\, Stauffacherstrasse 60\, Zürich\, 8006\, Schweiz
END:VEVENT
BEGIN:VEVENT
DTSTART;TZID=Europe/Zurich:20231028T143000
DTEND;TZID=Europe/Zurich:20231028T183000
DTSTAMP:20260423T105929
CREATED:20231018T072943Z
LAST-MODIFIED:20231018T072943Z
UID:21418-1698503400-1698517800@graswurzle.ch
SUMMARY:Regionales Lokalgruppentreffen in Winti vom 28. Oktober
DESCRIPTION:Herzliche Einladung an unser Vernetzungstreffen \nWann: Samstag\, den 28. Oktober 14.30h bis 18.00h \nAnschliessend gemütliches Nachtessen für die\, die wollen \nWo: Im Urig-Raum der Schule Morgentau\, Schaffhauserstrasse 11\, Winterthur Ziel: Regionale Lokal- und Interessengruppen- vernetzen \nAnmeldung bis zum Do\, 19.10. an: magdalena.furrer@bluewin.ch\nBitte teilt mir deutlich mit\, ob Ihr auch beim «Znacht» dabei sein möchtet oder nicht! (Wegen der Reservation) \nEingeladen ist die Region Winterthur und Umgebung: \nWinterthur\, Zell\, Hinterthurgau\, Wyland\, Zürich Unterland\, Schaffhausen\, Untersee\, auch Interessierte aus Bubikon\, Dürnten-Rüti\, Uster\, Wetzikon\, Wald\, Zürich Oberland sind herzlich willkommen. Teilt diese Einladung gerne mit weiteren interessierten Graswurzler/Innen. \nWas machen eigentlich die Graswurzler/Innen in den anderen Lokalgruppen?\nSicher gibt es ganz in der Nähe inspirierende Menschen mit den gleichen Interessen\, ähnlichem Engagement\, die Aktivitäten suchen oder planen\, die dich auch interessieren.\nAn diesem Treffen möchten wir ein «Kennenlernen» und «Vernetzen»\, das «Entdecken und Nutzen von Synergien» ermöglichen. Wir sind gemeinsam unterwegs und vernetzen uns über lokale Gruppen und Projekte hinweg\, um neue Strukturen für unser Zusammenleben zu erschaffen. \nProgramm: \n14.30 Uhr Einführung durch Magdalena Furrer\, Wurzelpflege \n14.45 Uhr Vorstellungsrunde und Berichte aus den verschiedenen Lokal- Themengruppen Kreative Anregungen aus der Gruppe \n15.30 Pause: Wer mag darf gerne etwas kleines Feines zum Teilen mitbringen.☺ 16.00 Uhr freier Austausch untereinander unter anderem an Thementischen 17.30 Uhr Schlussrunde\, Ideen und Wünsche für zukünftige Treffen \n18.00 Uhr Schluss\n18.30 gemeinsames Abendessen in einem Restaurant in der Nähe für die\, die sich angemeldet haben Mitbringen: Hausschuhe! > Der Urig-Raum darf nicht mit Schuhen betreten werden. Danke! \n\nVernetzungstreffen WintiundUmgebung\,Flyer
URL:https://graswurzle.ch/kalender-detail/regionales-lokalgruppentreffen-in-winti-vom-28-oktober/
LOCATION:Schaffhauserstrasse 11\, Winterthur\, Schaffhauserstrasse 11\, Winterthur\, Zürich\, 8400\, Schweiz
END:VEVENT
END:VCALENDAR