BEGIN:VCALENDAR
VERSION:2.0
PRODID:-//Graswurzle - ECPv6.11.2//NONSGML v1.0//EN
CALSCALE:GREGORIAN
METHOD:PUBLISH
X-ORIGINAL-URL:https://graswurzle.ch
X-WR-CALDESC:Veranstaltungen für Graswurzle
REFRESH-INTERVAL;VALUE=DURATION:PT1H
X-Robots-Tag:noindex
X-PUBLISHED-TTL:PT1H
BEGIN:VTIMEZONE
TZID:Europe/Zurich
BEGIN:DAYLIGHT
TZOFFSETFROM:+0100
TZOFFSETTO:+0200
TZNAME:CEST
DTSTART:20240331T010000
END:DAYLIGHT
BEGIN:STANDARD
TZOFFSETFROM:+0200
TZOFFSETTO:+0100
TZNAME:CET
DTSTART:20241027T010000
END:STANDARD
END:VTIMEZONE
BEGIN:VEVENT
DTSTART;TZID=Europe/Zurich:20240210T090000
DTEND;TZID=Europe/Zurich:20240210T180000
DTSTAMP:20260421T061102
CREATED:20231123T121504Z
LAST-MODIFIED:20231123T162238Z
UID:21935-1707555600-1707588000@graswurzle.ch
SUMMARY:Neue Wege - Der Kongress
DESCRIPTION:Infos und Anmeldung
URL:https://graswurzle.ch/kalender-detail/neue-wege-der-kongress/
LOCATION:MythenForum\, Reichsstrasse 12\, 6430 Schwyz\, Schweiz
END:VEVENT
BEGIN:VEVENT
DTSTART;TZID=Europe/Zurich:20240223T180000
DTEND;TZID=Europe/Zurich:20240223T220000
DTSTAMP:20260421T061102
CREATED:20240124T071347Z
LAST-MODIFIED:20240124T071347Z
UID:22341-1708711200-1708725600@graswurzle.ch
SUMMARY:Lokalgruppe Zug: Vernetzungstreffen in Baar
DESCRIPTION:Anmeldung: zug@graswurzle.ch
URL:https://graswurzle.ch/kalender-detail/lokalgruppe-zug-vernetzungstreffen-in-baar/
LOCATION:Baar\, Neuhofstrasse 3c\, Baar\, 6319\, Schweiz
CATEGORIES:Graswurzle-Veranstaltung
END:VEVENT
BEGIN:VEVENT
DTSTART;TZID=Europe/Zurich:20240224T123000
DTEND;TZID=Europe/Zurich:20240224T190000
DTSTAMP:20260421T061102
CREATED:20231214T152453Z
LAST-MODIFIED:20240125T074506Z
UID:22081-1708777800-1708801200@graswurzle.ch
SUMMARY:Vernetzungstreffen Lokalgruppe Unterwalden
DESCRIPTION:  \n\n\n\nTreffen der Lokalgruppe Unterwalden\n \nHerzliche Einladung zum Treffen in Stans\nDie Lokalgruppe Unterwalden startet nach einer Pause neu durch. Eingeladen sind Graswurzle-Mitglieder wie auch Interessierte.\n\nDas Vernetzungstreffen im Ideenreich Stans beginnt um 14 Uhr. Neben viel Raum für Begegnung und Austausch wird es ein paar kurze Themeninputs geben\, die dir das Graswurzle-Netzwerk und seine Möglichkeiten greifbarer machen und dich für das aktive Mitwirken begeistern könnten.\n\nWir laden dich ein\, etwas Feines zum Knabbern\, Essen oder auch zum Trinken mitzubringen und mit allen zu teilen. Für Mineralwasser\, heisses Wasser\, Kaffee und Teebeutel ist gesorgt.\n\nFalls du zudem etwas Besonderes einbringen möchtest\, musikalisch\, eine Idee oder ein Projekt vorstellen\, melde dich bitte möglichst bald zum Absprechen.\n\nEin wertschätzender Beitrag zum Decken der Mietkosten und des organisatorischen Aufwands ist ebenfalls sehr willkommen.\n\nBis bald! Ich freu mich!\n\nMartin\n\nÜber diesen Link kannst du dich gerne unserem Telegram-Chat hinzufügen:\nhttps://t.me/+mtWsF6B3zRkzODJk
URL:https://graswurzle.ch/kalender-detail/vernetzungstreffen-lokalgruppe-unterwalden/
LOCATION:Raum IdeenReich\, Engelbergstrasse 40a\, Stans\, 6370\, Schweiz
END:VEVENT
BEGIN:VEVENT
DTSTART;TZID=Europe/Zurich:20240224T130000
DTEND;TZID=Europe/Zurich:20240224T180000
DTSTAMP:20260421T061102
CREATED:20231123T141328Z
LAST-MODIFIED:20231123T141328Z
UID:21946-1708779600-1708797600@graswurzle.ch
SUMMARY:Workshop Lokal- und Themengruppenkoordinatioren
DESCRIPTION:Details zum Workshop folgen…
URL:https://graswurzle.ch/kalender-detail/workshop-lokal-und-themengruppenkoordinatioren/
LOCATION:Konservi Seon\, Seetalstrasse 2\, Seon\, Aargau\, 5703\, Schweiz
END:VEVENT
BEGIN:VEVENT
DTSTART;TZID=Europe/Zurich:20240227T190000
DTEND;TZID=Europe/Zurich:20240227T210000
DTSTAMP:20260421T061102
CREATED:20240214T102643Z
LAST-MODIFIED:20240214T102643Z
UID:22408-1709060400-1709067600@graswurzle.ch
SUMMARY:Treffen Graswurzle Dürnten-Rüti
DESCRIPTION:Lokalgruppen Treffen \nAnmeldung erwünscht\, da Platzzahl reduziert. \nduernten-rueti@graswurzle.ch \nBeatrix und Beatrice \n 
URL:https://graswurzle.ch/kalender-detail/treffen-graswurzle-duernten-rueti/
LOCATION:Rapperswil\, Kluggasse 19\, Rapperswil\, St.Gallen\, 8640\, Schweiz
END:VEVENT
END:VCALENDAR