BEGIN:VCALENDAR
VERSION:2.0
PRODID:-//Graswurzle - ECPv6.11.2//NONSGML v1.0//EN
CALSCALE:GREGORIAN
METHOD:PUBLISH
X-ORIGINAL-URL:https://graswurzle.ch
X-WR-CALDESC:Veranstaltungen für Graswurzle
REFRESH-INTERVAL;VALUE=DURATION:PT1H
X-Robots-Tag:noindex
X-PUBLISHED-TTL:PT1H
BEGIN:VTIMEZONE
TZID:Europe/Zurich
BEGIN:DAYLIGHT
TZOFFSETFROM:+0100
TZOFFSETTO:+0200
TZNAME:CEST
DTSTART:20250330T010000
END:DAYLIGHT
BEGIN:STANDARD
TZOFFSETFROM:+0200
TZOFFSETTO:+0100
TZNAME:CET
DTSTART:20251026T010000
END:STANDARD
END:VTIMEZONE
BEGIN:VEVENT
DTSTART;TZID=Europe/Zurich:20250201T140000
DTEND;TZID=Europe/Zurich:20250201T180000
DTSTAMP:20260423T175014
CREATED:20241129T142043Z
LAST-MODIFIED:20241129T142043Z
UID:24392-1738418400-1738432800@graswurzle.ch
SUMMARY:Vernetzungstreffen der Region Zürich und Umgebung
DESCRIPTION:Ziel: Vernetzung und Stärkung regionaler Lokal- und Interessengruppen \nEingeladen sind Mitglieder aus Zürich und Umgebung: Säuliamt\, Zürich\, Züri-West\, Zimmerberg\, Zürich-Unterland\, Winterthur und weitere Interessierte GW \nSich mal wieder physisch treffen; philosophieren; austauschen; inspirieren. Was ist für dich von besonderem Interesse\, was macht für dich das Leben lebenswert? Nutzt diese einmalige Gelegenheit. Es können an dieser Schule\, von uns bis zu vier Räume benutzt werden\, mit unterschiedlichen parallellaufenden Themen. \nVernetzungstreffen Bassersdorf-Kloten 2025Erinnerung \n 
URL:https://graswurzle.ch/kalender-detail/vernetzungstreffen-der-region-zuerich-und-umgebung-2/
LOCATION:Imago\, Grindelstr. 9\, Bassersdorf\, 8303\, Switzerland
END:VEVENT
BEGIN:VEVENT
DTSTART;TZID=Europe/Zurich:20250202T170000
DTEND;TZID=Europe/Zurich:20250202T220000
DTSTAMP:20260423T175014
CREATED:20241221T080538Z
LAST-MODIFIED:20250108T163904Z
UID:24555-1738515600-1738533600@graswurzle.ch
SUMMARY:Lokalgruppe Zug - Das indische Tuch -AUSGEBUCHT!
DESCRIPTION:
URL:https://graswurzle.ch/kalender-detail/lokalgruppe-zug-das-indische-tuch/
LOCATION:Theater im Burgbachkeller\, Sankt-Oswalds-Gasse 3\, Zug\, Zug\, 6300\, Switzerland
END:VEVENT
BEGIN:VEVENT
DTSTART;TZID=Europe/Zurich:20250207T153000
DTEND;TZID=Europe/Zurich:20250209T160000
DTSTAMP:20260423T175014
CREATED:20241122T135632Z
LAST-MODIFIED:20241122T135632Z
UID:24376-1738942200-1739116800@graswurzle.ch
SUMMARY:Gemeinschaftsbildungs Workshop am 7.-9.2.25 / Basel
DESCRIPTION:Der Gemeinschaftsbildungs-Workshop für alle Graswurzle Freunde\, die erfahren und erleben möchten\, was »Gemeinschaft« – eigentlich ist. \nNach dem erfolgreichen Graswurzle-Workshop Ende November in Biel/Bienne steht nun schon der 2te Termine für die Graswurzle-Bewegung:\nVom Freitag\, den 7. Februar (16h) bis zum Sonntag\, den 9. Februar 2025 (16h) startet der Workshop nun in Basel. Der Workshop wurde von Graswurzle-Mitgliedern gemeinsam mit CBI (Community Building International\, Schweiz) initiiert. Eingeladen sind jedoch alle Mitglieder aller Graswurzle Regionalgruppen und auch alle anderen Personen\, die sich dafür interessieren (eine Graswurzle-Mitgliedschaft ist nicht erforderlich). \nweitere Infos und Anmeldung
URL:https://graswurzle.ch/kalender-detail/gemeinschaftsbildungs-workshop-am-7-9-2-25-basel/
LOCATION:Rudolf Steiner Schule\, Basel
END:VEVENT
BEGIN:VEVENT
DTSTART;TZID=Europe/Zurich:20250222T100000
DTEND;TZID=Europe/Zurich:20250222T180000
DTSTAMP:20260423T175014
CREATED:20240905T065752Z
LAST-MODIFIED:20241122T134135Z
UID:24116-1740218400-1740247200@graswurzle.ch
SUMMARY:3. Graswurzle Neue Wege Kongress
DESCRIPTION:Infos und Anmeldung \n 
URL:https://graswurzle.ch/kalender-detail/3-graswurzle-neue-wege-kongress/
LOCATION:MythenForum\, Reichsstrasse 12\, 6430 Schwyz\, Schweiz
END:VEVENT
END:VCALENDAR